Workbook

Sheet --- BUDGET ---
A1: JANUARY | D1: FEBRUARY | G1: MARCH | J1: APRIL | M1: MAY | P1: JUNE | S1: JULY | V1: AUGUST | Y1: SEPTEMBER | AB1: OCTOBER | AE1: NOVEMBER | AH1: DECEMBER | AK1: FY 2025
A2: Monthly Income | D2: Monthly Income | G2: Monthly Income | J2: Monthly Income | M2: Monthly Income | P2: Monthly Income | S2: Monthly Income | V2: Monthly Income | Y2: Monthly Income | AB2: Monthly Income | AE2: Monthly Income | AH2: Monthly Income | AK2: Annual Income
A3: Source | B3: Projected | C3: Actual | D3: Source | E3: Projected | F3: Actual | G3: Source | H3: Projected | I3: Actual | J3: Source | K3: Projected | L3: Actual | M3: Source | N3: Projected | O3: Actual | P3: Source | Q3: Projected | R3: Actual | S3: Source | T3: Projected | U3: Actual | V3: Source | W3: Projected | X3: Actual | Y3: Source | Z3: Projected | AA3: Actual | AB3: Source | AC3: Projected | AD3: Actual | AE3: Source | AF3: Projected | AG3: Actual | AH3: Source | AI3: Projected | AJ3: Actual | AK3: Source | AL3: Projected | AM3: Actual
A4: Income 1 | B4: 0 | C4: 0 | D4: Income 1 | E4: 0 | F4: 0 | G4: Income 1 | H4: 0 | I4: 0 | J4: Income 1 | K4: 0 | L4: 0 | M4: Income 1 | N4: 0 | O4: 0 | P4: Income 1 | Q4: 0 | R4: 0 | S4: Income 1 | T4: 0 | U4: 0 | V4: Income 1 | W4: 0 | X4: 0 | Y4: Income 1 | Z4: 0 | AA4: 0 | AB4: Income 1 | AC4: 0 | AD4: 0 | AE4: Income 1 | AF4: 0 | AG4: 0 | AH4: Income 1 | AI4: 0 | AJ4: 0 | AK4: Income 1 | AL4: =SUM(B4,E4,H4,K4,N4,Q4,T4,W4,Z4,AC4,AF4,AI4) -> 0 | AM4: =SUM(C4,F4,I4,L4,O4,R4,U4,X4,AA4,AD4,AG4,AJ4) -> 0
A5: Income 2 | B5: 0 | C5: 0 | D5: Income 2 | E5: 0 | F5: 0 | G5: Income 2 | H5: 0 | I5: 0 | J5: Income 2 | K5: 0 | L5: 0 | M5: Income 2 | N5: 0 | O5: 0 | P5: Income 2 | Q5: 0 | R5: 0 | S5: Income 2 | T5: 0 | U5: 0 | V5: Income 2 | W5: 0 | X5: 0 | Y5: Income 2 | Z5: 0 | AA5: 0 | AB5: Income 2 | AC5: 0 | AD5: 0 | AE5: Income 2 | AF5: 0 | AG5: 0 | AH5: Income 2 | AI5: 0 | AJ5: 0 | AK5: Income 2 | AL5: =SUM(B5,E5,H5,K5,N5,Q5,T5,W5,Z5,AC5,AF5,AI5) -> 0 | AM5: =SUM(C5,F5,I5,L5,O5,R5,U5,X5,AA5,AD5,AG5,AJ5) -> 0
A6: Income 3 | B6: 0 | C6: 0 | D6: Income 3 | E6: 0 | F6: 0 | G6: Income 3 | H6: 0 | I6: 0 | J6: Income 3 | K6: 0 | L6: 0 | M6: Income 3 | N6: 0 | O6: 0 | P6: Income 3 | Q6: 0 | R6: 0 | S6: Income 3 | T6: 0 | U6: 0 | V6: Income 3 | W6: 0 | X6: 0 | Y6: Income 3 | Z6: 0 | AA6: 0 | AB6: Income 3 | AC6: 0 | AD6: 0 | AE6: Income 3 | AF6: 0 | AG6: 0 | AH6: Income 3 | AI6: 0 | AJ6: 0 | AK6: Income 3 | AL6: =SUM(B6,E6,H6,K6,N6,Q6,T6,W6,Z6,AC6,AF6,AI6) -> 0 | AM6: =SUM(C6,F6,I6,L6,O6,R6,U6,X6,AA6,AD6,AG6,AJ6) -> 0
A7: Income 4 | B7: 0 | C7: 0 | D7: Income 4 | E7: 0 | F7: 0 | G7: Income 4 | H7: 0 | I7: 0 | J7: Income 4 | K7: 0 | L7: 0 | M7: Income 4 | N7: 0 | O7: 0 | P7: Income 4 | Q7: 0 | R7: 0 | S7: Income 4 | T7: 0 | U7: 0 | V7: Income 4 | W7: 0 | X7: 0 | Y7: Income 4 | Z7: 0 | AA7: 0 | AB7: Income 4 | AC7: 0 | AD7: 0 | AE7: Income 4 | AF7: 0 | AG7: 0 | AH7: Income 4 | AI7: 0 | AJ7: 0 | AK7: Income 4 | AL7: =SUM(B7,E7,H7,K7,N7,Q7,T7,W7,Z7,AC7,AF7,AI7) -> 0 | AM7: =SUM(C7,F7,I7,L7,O7,R7,U7,X7,AA7,AD7,AG7,AJ7) -> 0
A8: Banking Interest | B8: 0 | C8: 0 | D8: Banking Interest | E8: 0 | F8: 0 | G8: Banking Interest | H8: 0 | I8: 0 | J8: Banking Interest | K8: 0 | L8: 0 | M8: Banking Interest | N8: 0 | O8: 0 | P8: Banking Interest | Q8: 0 | R8: 0 | S8: Banking Interest | T8: 0 | U8: 0 | V8: Banking Interest | W8: 0 | X8: 0 | Y8: Banking Interest | Z8: 0 | AA8: 0 | AB8: Banking Interest | AC8: 0 | AD8: 0 | AE8: Banking Interest | AF8: 0 | AG8: 0 | AH8: Banking Interest | AI8: 0 | AJ8: 0 | AK8: Banking Interest | AL8: =SUM(B8,E8,H8,K8,N8,Q8,T8,W8,Z8,AC8,AF8,AI8) -> 0 | AM8: =SUM(C8,F8,I8,L8,O8,R8,U8,X8,AA8,AD8,AG8,AJ8) -> 0
A9: Credit Card Rewards | B9: 0 | C9: 0 | D9: Credit Card Rewards | E9: 0 | F9: 0 | G9: Credit Card Rewards | H9: 0 | I9: 0 | J9: Credit Card Rewards | K9: 0 | L9: 0 | M9: Credit Card Rewards | N9: 0 | O9: 0 | P9: Credit Card Rewards | Q9: 0 | R9: 0 | S9: Credit Card Rewards | T9: 0 | U9: 0 | V9: Credit Card Rewards | W9: 0 | X9: 0 | Y9: Credit Card Rewards | Z9: 0 | AA9: 0 | AB9: Credit Card Rewards | AC9: 0 | AD9: 0 | AE9: Credit Card Rewards | AF9: 0 | AG9: 0 | AH9: Credit Card Rewards | AI9: 0 | AJ9: 0 | AK9: Credit Card Rewards | AL9: =SUM(B9,E9,H9,K9,N9,Q9,T9,W9,Z9,AC9,AF9,AI9) -> 0 | AM9: =SUM(C9,F9,I9,L9,O9,R9,U9,X9,AA9,AD9,AG9,AJ9) -> 0
A10: Venmo | B10: 0 | C10: 0 | D10: Venmo | E10: 0 | F10: 0 | G10: Venmo | H10: 0 | I10: 0 | J10: Venmo | K10: 0 | L10: 0 | M10: Venmo | N10: 0 | O10: 0 | P10: Venmo | Q10: 0 | R10: 0 | S10: Venmo | T10: 0 | U10: 0 | V10: Venmo | W10: 0 | X10: 0 | Y10: Venmo | Z10: 0 | AA10: 0 | AB10: Venmo | AC10: 0 | AD10: 0 | AE10: Venmo | AF10: 0 | AG10: 0 | AH10: Venmo | AI10: 0 | AJ10: 0 | AK10: Venmo | AL10: =SUM(B10,E10,H10,K10,N10,Q10,T10,W10,Z10,AC10,AF10,AI10) -> 0 | AM10: =SUM(C10,F10,I10,L10,O10,R10,U10,X10,AA10,AD10,AG10,AJ10) -> 0
A11: Other | B11: 0 | C11: 0 | D11: Other | E11: 0 | F11: 0 | G11: Other | H11: 0 | I11: 0 | J11: Other | K11: 0 | L11: 0 | M11: Other | N11: 0 | O11: 0 | P11: Other | Q11: 0 | R11: 0 | S11: Other | T11: 0 | U11: 0 | V11: Other | W11: 0 | X11: 0 | Y11: Other | Z11: 0 | AA11: 0 | AB11: Other | AC11: 0 | AD11: 0 | AE11: Other | AF11: 0 | AG11: 0 | AH11: Other | AI11: 0 | AJ11: 0 | AK11: Other | AL11: =SUM(B11,E11,H11,K11,N11,Q11,T11,W11,Z11,AC11,AF11,AI11) -> 0 | AM11: =SUM(C11,F11,I11,L11,O11,R11,U11,X11,AA11,AD11,AG11,AJ11) -> 0
A12: Total Monthly Income: | B12: =SUM(B4:B11) -> 0 | C12: =SUM(C4:C11) -> 0 | D12: Total Monthly Income: | E12: =SUM(E4:E11) -> 0 | F12: =SUM(F4:F11) -> 0 | G12: Total Monthly Income: | H12: =SUM(H4:H11) -> 0 | I12: =SUM(I4:I11) -> 0 | J12: Total Monthly Income: | K12: =SUM(K4:K11) -> 0 | L12: =SUM(L4:L11) -> 0 | M12: Total Monthly Income: | N12: =SUM(N4:N11) -> 0 | O12: =SUM(O4:O11) -> 0 | P12: Total Monthly Income: | Q12: =SUM(Q4:Q11) -> 0 | R12: =SUM(R4:R11) -> 0 | S12: Total Monthly Income: | T12: =SUM(T4:T11) -> 0 | U12: =SUM(U4:U11) -> 0 | V12: Total Monthly Income: | W12: =SUM(W4:W11) -> 0 | X12: =SUM(X4:X11) -> 0 | Y12: Total Monthly Income: | Z12: =SUM(Z4:Z11) -> 0 | AA12: =SUM(AA4:AA11) -> 0 | AB12: Total Monthly Income: | AC12: =SUM(AC4:AC11) -> 0 | AD12: =SUM(AD4:AD11) -> 0 | AE12: Total Monthly Income: | AF12: =SUM(AF4:AF11) -> 0 | AG12: =SUM(AG4:AG11) -> 0 | AH12: Total Monthly Income: | AI12: =SUM(AI4:AI11) -> 0 | AJ12: =SUM(AJ4:AJ11) -> 0 | AK12: Total Monthly Income: | AL12: =SUM(AL4:AL11) -> 0 | AM12: =SUM(AM4:AM11) -> 0
A14: Expenses | D14: Expenses | G14: Expenses | J14: Expenses | M14: Expenses | P14: Expenses | S14: Expenses | V14: Expenses | Y14: Expenses | AB14: Expenses | AE14: Expenses | AH14: Expenses | AK14: Expenses
A15: Housing | B15: Projected | C15: Actual | D15: Housing | E15: Projected | F15: Actual | G15: Housing | H15: Projected | I15: Actual | J15: Housing | K15: Projected | L15: Actual | M15: Housing | N15: Projected | O15: Actual | P15: Housing | Q15: Projected | R15: Actual | S15: Housing | T15: Projected | U15: Actual | V15: Housing | W15: Projected | X15: Actual | Y15: Housing | Z15: Projected | AA15: Actual | AB15: Housing | AC15: Projected | AD15: Actual | AE15: Housing | AF15: Projected | AG15: Actual | AH15: Housing | AI15: Projected | AJ15: Actual | AK15: Housing | AL15: Projected | AM15: Actual
A16: Mortgage/Rent | B16: 0 | C16: 0 | D16: Mortgage/Rent | E16: 0 | F16: 0 | G16: Mortgage/Rent | H16: 0 | I16: 0 | J16: Mortgage/Rent | K16: 0 | L16: 0 | M16: Mortgage/Rent | N16: 0 | O16: 0 | P16: Mortgage/Rent | Q16: 0 | R16: 0 | S16: Mortgage/Rent | T16: 0 | U16: 0 | V16: Mortgage/Rent | W16: 0 | X16: 0 | Y16: Mortgage/Rent | Z16: 0 | AA16: 0 | AB16: Mortgage/Rent | AC16: 0 | AD16: 0 | AE16: Mortgage/Rent | AF16: 0 | AG16: 0 | AH16: Mortgage/Rent | AI16: 0 | AJ16: 0 | AK16: Mortgage/Rent | AL16: =SUM(B16,E16,H16,K16,N16,Q16,T16,W16,Z16,AC16,AF16,AI16) -> 0 | AM16: =SUM(C16,F16,I16,L16,O16,R16,U16,X16,AA16,AD16,AG16,AJ16) -> 0
A17: Property Taxes | B17: 0 | C17: 0 | D17: Property Taxes | E17: 0 | F17: 0 | G17: Property Taxes | H17: 0 | I17: 0 | J17: Property Taxes | K17: 0 | L17: 0 | M17: Property Taxes | N17: 0 | O17: 0 | P17: Property Taxes | Q17: 0 | R17: 0 | S17: Property Taxes | T17: 0 | U17: 0 | V17: Property Taxes | W17: 0 | X17: 0 | Y17: Property Taxes | Z17: 0 | AA17: 0 | AB17: Property Taxes | AC17: 0 | AD17: 0 | AE17: Property Taxes | AF17: 0 | AG17: 0 | AH17: Property Taxes | AI17: 0 | AJ17: 0 | AK17: Property Taxes | AL17: =SUM(B17,E17,H17,K17,N17,Q17,T17,W17,Z17,AC17,AF17,AI17) -> 0 | AM17: =SUM(C17,F17,I17,L17,O17,R17,U17,X17,AA17,AD17,AG17,AJ17) -> 0
A18: Homeowner/Renter Insurance | B18: 0 | C18: 0 | D18: Homeowner/Renter Insurance | E18: 0 | F18: 0 | G18: Homeowner/Renter Insurance | H18: 0 | I18: 0 | J18: Homeowner/Renter Insurance | K18: 0 | L18: 0 | M18: Homeowner/Renter Insurance | N18: 0 | O18: 0 | P18: Homeowner/Renter Insurance | Q18: 0 | R18: 0 | S18: Homeowner/Renter Insurance | T18: 0 | U18: 0 | V18: Homeowner/Renter Insurance | W18: 0 | X18: 0 | Y18: Homeowner/Renter Insurance | Z18: 0 | AA18: 0 | AB18: Homeowner/Renter Insurance | AC18: 0 | AD18: 0 | AE18: Homeowner/Renter Insurance | AF18: 0 | AG18: 0 | AH18: Homeowner/Renter Insurance | AI18: 0 | AJ18: 0 | AK18: Homeowner/Renter Insurance | AL18: =SUM(B18,E18,H18,K18,N18,Q18,T18,W18,Z18,AC18,AF18,AI18) -> 0 | AM18: =SUM(C18,F18,I18,L18,O18,R18,U18,X18,AA18,AD18,AG18,AJ18) -> 0
A19: Electricity (Utility) | B19: 0 | C19: 0 | D19: Electricity (Utility) | E19: 0 | F19: 0 | G19: Electricity (Utility) | H19: 0 | I19: 0 | J19: Electricity (Utility) | K19: 0 | L19: 0 | M19: Electricity (Utility) | N19: 0 | O19: 0 | P19: Electricity (Utility) | Q19: 0 | R19: 0 | S19: Electricity (Utility) | T19: 0 | U19: 0 | V19: Electricity (Utility) | W19: 0 | X19: 0 | Y19: Electricity (Utility) | Z19: 0 | AA19: 0 | AB19: Electricity (Utility) | AC19: 0 | AD19: 0 | AE19: Electricity (Utility) | AF19: 0 | AG19: 0 | AH19: Electricity (Utility) | AI19: 0 | AJ19: 0 | AK19: Electricity (Utility) | AL19: =SUM(B19,E19,H19,K19,N19,Q19,T19,W19,Z19,AC19,AF19,AI19) -> 0 | AM19: =SUM(C19,F19,I19,L19,O19,R19,U19,X19,AA19,AD19,AG19,AJ19) -> 0
A20: Gas (Utility) | B20: 0 | C20: 0 | D20: Gas (Utility) | E20: 0 | F20: 0 | G20: Gas (Utility) | H20: 0 | I20: 0 | J20: Gas (Utility) | K20: 0 | L20: 0 | M20: Gas (Utility) | N20: 0 | O20: 0 | P20: Gas (Utility) | Q20: 0 | R20: 0 | S20: Gas (Utility) | T20: 0 | U20: 0 | V20: Gas (Utility) | W20: 0 | X20: 0 | Y20: Gas (Utility) | Z20: 0 | AA20: 0 | AB20: Gas (Utility) | AC20: 0 | AD20: 0 | AE20: Gas (Utility) | AF20: 0 | AG20: 0 | AH20: Gas (Utility) | AI20: 0 | AJ20: 0 | AK20: Gas (Utility) | AL20: =SUM(B20,E20,H20,K20,N20,Q20,T20,W20,Z20,AC20,AF20,AI20) -> 0 | AM20: =SUM(C20,F20,I20,L20,O20,R20,U20,X20,AA20,AD20,AG20,AJ20) -> 0
A21: Water (Utility) | B21: 0 | C21: 0 | D21: Water (Utility) | E21: 0 | F21: 0 | G21: Water (Utility) | H21: 0 | I21: 0 | J21: Water (Utility) | K21: 0 | L21: 0 | M21: Water (Utility) | N21: 0 | O21: 0 | P21: Water (Utility) | Q21: 0 | R21: 0 | S21: Water (Utility) | T21: 0 | U21: 0 | V21: Water (Utility) | W21: 0 | X21: 0 | Y21: Water (Utility) | Z21: 0 | AA21: 0 | AB21: Water (Utility) | AC21: 0 | AD21: 0 | AE21: Water (Utility) | AF21: 0 | AG21: 0 | AH21: Water (Utility) | AI21: 0 | AJ21: 0 | AK21: Water (Utility) | AL21: =SUM(B21,E21,H21,K21,N21,Q21,T21,W21,Z21,AC21,AF21,AI21) -> 0 | AM21: =SUM(C21,F21,I21,L21,O21,R21,U21,X21,AA21,AD21,AG21,AJ21) -> 0
A22: Internet (Including Supplies like Modem, Router, etc.) | B22: 0 | C22: 0 | D22: Internet (Including Supplies like Modem, Router, etc.) | E22: 0 | F22: 0 | G22: Internet (Including Supplies like Modem, Router, etc.) | H22: 0 | I22: 0 | J22: Internet (Including Supplies like Modem, Router, etc.) | K22: 0 | L22: 0 | M22: Internet (Including Supplies like Modem, Router, etc.) | N22: 0 | O22: 0 | P22: Internet (Including Supplies like Modem, Router, etc.) | Q22: 0 | R22: 0 | S22: Internet (Including Supplies like Modem, Router, etc.) | T22: 0 | U22: 0 | V22: Internet (Including Supplies like Modem, Router, etc.) | W22: 0 | X22: 0 | Y22: Internet (Including Supplies like Modem, Router, etc.) | Z22: 0 | AA22: 0 | AB22: Internet (Including Supplies like Modem, Router, etc.) | AC22: 0 | AD22: 0 | AE22: Internet (Including Supplies like Modem, Router, etc.) | AF22: 0 | AG22: 0 | AH22: Internet (Including Supplies like Modem, Router, etc.) | AI22: 0 | AJ22: 0 | AK22: Internet (Including Supplies like Modem, Router, etc.) | AL22: =SUM(B22,E22,H22,K22,N22,Q22,T22,W22,Z22,AC22,AF22,AI22) -> 0 | AM22: =SUM(C22,F22,I22,L22,O22,R22,U22,X22,AA22,AD22,AG22,AJ22) -> 0
A23: Cable (Including Streaming Services) | B23: 0 | C23: 0 | D23: Cable (Including Streaming Services) | E23: 0 | F23: 0 | G23: Cable (Including Streaming Services) | H23: 0 | I23: 0 | J23: Cable (Including Streaming Services) | K23: 0 | L23: 0 | M23: Cable (Including Streaming Services) | N23: 0 | O23: 0 | P23: Cable (Including Streaming Services) | Q23: 0 | R23: 0 | S23: Cable (Including Streaming Services) | T23: 0 | U23: 0 | V23: Cable (Including Streaming Services) | W23: 0 | X23: 0 | Y23: Cable (Including Streaming Services) | Z23: 0 | AA23: 0 | AB23: Cable (Including Streaming Services) | AC23: 0 | AD23: 0 | AE23: Cable (Including Streaming Services) | AF23: 0 | AG23: 0 | AH23: Cable (Including Streaming Services) | AI23: 0 | AJ23: 0 | AK23: Cable (Including Streaming Services) | AL23: =SUM(B23,E23,H23,K23,N23,Q23,T23,W23,Z23,AC23,AF23,AI23) -> 0 | AM23: =SUM(C23,F23,I23,L23,O23,R23,U23,X23,AA23,AD23,AG23,AJ23) -> 0
A24: Outdoor/Garden | B24: 0 | C24: 0 | D24: Outdoor/Garden | E24: 0 | F24: 0 | G24: Outdoor/Garden | H24: 0 | I24: 0 | J24: Outdoor/Garden | K24: 0 | L24: 0 | M24: Outdoor/Garden | N24: 0 | O24: 0 | P24: Outdoor/Garden | Q24: 0 | R24: 0 | S24: Outdoor/Garden | T24: 0 | U24: 0 | V24: Outdoor/Garden | W24: 0 | X24: 0 | Y24: Outdoor/Garden | Z24: 0 | AA24: 0 | AB24: Outdoor/Garden | AC24: 0 | AD24: 0 | AE24: Outdoor/Garden | AF24: 0 | AG24: 0 | AH24: Outdoor/Garden | AI24: 0 | AJ24: 0 | AK24: Outdoor/Garden | AL24: =SUM(B24,E24,H24,K24,N24,Q24,T24,W24,Z24,AC24,AF24,AI24) -> 0 | AM24: =SUM(C24,F24,I24,L24,O24,R24,U24,X24,AA24,AD24,AG24,AJ24) -> 0
A25: Waste Removal | B25: 0 | C25: 0 | D25: Waste Removal | E25: 0 | F25: 0 | G25: Waste Removal | H25: 0 | I25: 0 | J25: Waste Removal | K25: 0 | L25: 0 | M25: Waste Removal | N25: 0 | O25: 0 | P25: Waste Removal | Q25: 0 | R25: 0 | S25: Waste Removal | T25: 0 | U25: 0 | V25: Waste Removal | W25: 0 | X25: 0 | Y25: Waste Removal | Z25: 0 | AA25: 0 | AB25: Waste Removal | AC25: 0 | AD25: 0 | AE25: Waste Removal | AF25: 0 | AG25: 0 | AH25: Waste Removal | AI25: 0 | AJ25: 0 | AK25: Waste Removal | AL25: =SUM(B25,E25,H25,K25,N25,Q25,T25,W25,Z25,AC25,AF25,AI25) -> 0 | AM25: =SUM(C25,F25,I25,L25,O25,R25,U25,X25,AA25,AD25,AG25,AJ25) -> 0
A26: Maintenance/Repairs | B26: 0 | C26: 0 | D26: Maintenance/Repairs | E26: 0 | F26: 0 | G26: Maintenance/Repairs | H26: 0 | I26: 0 | J26: Maintenance/Repairs | K26: 0 | L26: 0 | M26: Maintenance/Repairs | N26: 0 | O26: 0 | P26: Maintenance/Repairs | Q26: 0 | R26: 0 | S26: Maintenance/Repairs | T26: 0 | U26: 0 | V26: Maintenance/Repairs | W26: 0 | X26: 0 | Y26: Maintenance/Repairs | Z26: 0 | AA26: 0 | AB26: Maintenance/Repairs | AC26: 0 | AD26: 0 | AE26: Maintenance/Repairs | AF26: 0 | AG26: 0 | AH26: Maintenance/Repairs | AI26: 0 | AJ26: 0 | AK26: Maintenance/Repairs | AL26: =SUM(B26,E26,H26,K26,N26,Q26,T26,W26,Z26,AC26,AF26,AI26) -> 0 | AM26: =SUM(C26,F26,I26,L26,O26,R26,U26,X26,AA26,AD26,AG26,AJ26) -> 0
A27: Renovations | B27: 0 | C27: 0 | D27: Renovations | E27: 0 | F27: 0 | G27: Renovations | H27: 0 | I27: 0 | J27: Renovations | K27: 0 | L27: 0 | M27: Renovations | N27: 0 | O27: 0 | P27: Renovations | Q27: 0 | R27: 0 | S27: Renovations | T27: 0 | U27: 0 | V27: Renovations | W27: 0 | X27: 0 | Y27: Renovations | Z27: 0 | AA27: 0 | AB27: Renovations | AC27: 0 | AD27: 0 | AE27: Renovations | AF27: 0 | AG27: 0 | AH27: Renovations | AI27: 0 | AJ27: 0 | AK27: Renovations | AL27: =SUM(B27,E27,H27,K27,N27,Q27,T27,W27,Z27,AC27,AF27,AI27) -> 0 | AM27: =SUM(C27,F27,I27,L27,O27,R27,U27,X27,AA27,AD27,AG27,AJ27) -> 0
... A29: Other | B29: 0 | C29: 0 | D29: Other | E29: 0 | F29: 0 | G29: Other | H29: 0 | I29: 0 | J29: Other | K29: 0 | L29: 0 | M29: Other | N29: 0 | O29: 0 | P29: Other | Q29: 0 | R29: 0 | S29: Other | T29: 0 | U29: 0 | V29: Other | W29: 0 | X29: 0 | Y29: Other | Z29: 0 | AA29: 0 | AB29: Other | AC29: 0 | AD29: 0 | AE29: Other | AF29: 0 | AG29: 0 | AH29: Other | AI29: 0 | AJ29: 0 | AK29: Other | AL29: =SUM(B29,E29,H29,K29,N29,Q29,T29,W29,Z29,AC29,AF29,AI29) -> 0 | AM29: =SUM(C29,F29,I29,L29,O29,R29,U29,X29,AA29,AD29,AG29,AJ29) -> 0
A30: Subtotals: | B30: =SUM(B16:B29) -> 0 | C30: =SUM(C16:C29) -> 0 | D30: Subtotals: | E30: =SUM(E16:E29) -> 0 | F30: =SUM(F16:F29) -> 0 | G30: Subtotals: | H30: =SUM(H16:H29) -> 0 | I30: =SUM(I16:I29) -> 0 | J30: Subtotals: | K30: =SUM(K16:K29) -> 0 | L30: =SUM(L16:L29) -> 0 | M30: Subtotals: | N30: =SUM(N16:N29) -> 0 | O30: =SUM(O16:O29) -> 0 | P30: Subtotals: | Q30: =SUM(Q16:Q29) -> 0 | R30: =SUM(R16:R29) -> 0 | S30: Subtotals: | T30: =SUM(T16:T29) -> 0 | U30: =SUM(U16:U29) -> 0 | V30: Subtotals: | W30: =SUM(W16:W29) -> 0 | X30: =SUM(X16:X29) -> 0 | Y30: Subtotals: | Z30: =SUM(Z16:Z29) -> 0 | AA30: =SUM(AA16:AA29) -> 0 | AB30: Subtotals: | AC30: =SUM(AC16:AC29) -> 0 | AD30: =SUM(AD16:AD29) -> 0 | AE30: Subtotals: | AF30: =SUM(AF16:AF29) -> 0 | AG30: =SUM(AG16:AG29) -> 0 | AH30: Subtotals: | AI30: =SUM(AI16:AI29) -> 0 | AJ30: =SUM(AJ16:AJ29) -> 0 | AK30: Subtotals: | AL30: =SUM(AL16:AL29) -> 0 | AM30: =SUM(AM16:AM29) -> 0
A31: Transportation | C31: Actual | D31: Transportation | F31: Actual | G31: Transportation | I31: Actual | J31: Transportation | L31: Actual | M31: Transportation | O31: Actual | P31: Transportation | R31: Actual | S31: Transportation | U31: Actual | V31: Transportation | X31: Actual | Y31: Transportation | AA31: Actual | AB31: Transportation | AD31: Actual | AE31: Transportation | AG31: Actual | AH31: Transportation | AJ31: Actual | AK31: Transportation | AM31: Actual
A32: Vehicle Payment 1 | B32: 0 | C32: 0 | D32: Vehicle Payment 1 | E32: 0 | F32: 0 | G32: Vehicle Payment 1 | H32: 0 | I32: 0 | J32: Vehicle Payment 1 | K32: 0 | L32: 0 | M32: Vehicle Payment 1 | N32: 0 | O32: 0 | P32: Vehicle Payment 1 | Q32: 0 | R32: 0 | S32: Vehicle Payment 1 | T32: 0 | U32: 0 | V32: Vehicle Payment 1 | W32: 0 | X32: 0 | Y32: Vehicle Payment 1 | Z32: 0 | AA32: 0 | AB32: Vehicle Payment 1 | AC32: 0 | AD32: 0 | AE32: Vehicle Payment 1 | AF32: 0 | AG32: 0 | AH32: Vehicle Payment 1 | AI32: 0 | AJ32: 0 | AK32: Vehicle Payment 1 | AL32: =SUM(B32,E32,H32,K32,N32,Q32,T32,W32,Z32,AC32,AF32,AI32) -> 0 | AM32: =SUM(C32,F32,I32,L32,O32,R32,U32,X32,AA32,AD32,AG32,AJ32) -> 0
A33: Vehicle Payment 2 | B33: 0 | C33: 0 | D33: Vehicle Payment 2 | E33: 0 | F33: 0 | G33: Vehicle Payment 2 | H33: 0 | I33: 0 | J33: Vehicle Payment 2 | K33: 0 | L33: 0 | M33: Vehicle Payment 2 | N33: 0 | O33: 0 | P33: Vehicle Payment 2 | Q33: 0 | R33: 0 | S33: Vehicle Payment 2 | T33: 0 | U33: 0 | V33: Vehicle Payment 2 | W33: 0 | X33: 0 | Y33: Vehicle Payment 2 | Z33: 0 | AA33: 0 | AB33: Vehicle Payment 2 | AC33: 0 | AD33: 0 | AE33: Vehicle Payment 2 | AF33: 0 | AG33: 0 | AH33: Vehicle Payment 2 | AI33: 0 | AJ33: 0 | AK33: Vehicle Payment 2 | AL33: =SUM(B33,E33,H33,K33,N33,Q33,T33,W33,Z33,AC33,AF33,AI33) -> 0 | AM33: =SUM(C33,F33,I33,L33,O33,R33,U33,X33,AA33,AD33,AG33,AJ33) -> 0
A34: Vehicle Payment 3 | B34: 0 | C34: 0 | D34: Vehicle Payment 3 | E34: 0 | F34: 0 | G34: Vehicle Payment 3 | H34: 0 | I34: 0 | J34: Vehicle Payment 3 | K34: 0 | L34: 0 | M34: Vehicle Payment 3 | N34: 0 | O34: 0 | P34: Vehicle Payment 3 | Q34: 0 | R34: 0 | S34: Vehicle Payment 3 | T34: 0 | U34: 0 | V34: Vehicle Payment 3 | W34: 0 | X34: 0 | Y34: Vehicle Payment 3 | Z34: 0 | AA34: 0 | AB34: Vehicle Payment 3 | AC34: 0 | AD34: 0 | AE34: Vehicle Payment 3 | AF34: 0 | AG34: 0 | AH34: Vehicle Payment 3 | AI34: 0 | AJ34: 0 | AK34: Vehicle Payment 3 | AL34: =SUM(B34,E34,H34,K34,N34,Q34,T34,W34,Z34,AC34,AF34,AI34) -> 0 | AM34: =SUM(C34,F34,I34,L34,O34,R34,U34,X34,AA34,AD34,AG34,AJ34) -> 0
A35: Other Payment (Camper, Boat, etc.) | B35: 0 | C35: 0 | D35: Other Payment (Camper, Boat, etc.) | E35: 0 | F35: 0 | G35: Other Payment (Camper, Boat, etc.) | H35: 0 | I35: 0 | J35: Other Payment (Camper, Boat, etc.) | K35: 0 | L35: 0 | M35: Other Payment (Camper, Boat, etc.) | N35: 0 | O35: 0 | P35: Other Payment (Camper, Boat, etc.) | Q35: 0 | R35: 0 | S35: Other Payment (Camper, Boat, etc.) | T35: 0 | U35: 0 | V35: Other Payment (Camper, Boat, etc.) | W35: 0 | X35: 0 | Y35: Other Payment (Camper, Boat, etc.) | Z35: 0 | AA35: 0 | AB35: Other Payment (Camper, Boat, etc.) | AC35: 0 | AD35: 0 | AE35: Other Payment (Camper, Boat, etc.) | AF35: 0 | AG35: 0 | AH35: Other Payment (Camper, Boat, etc.) | AI35: 0 | AJ35: 0 | AK35: Other Payment (Camper, Boat, etc.) | AL35: =SUM(B35,E35,H35,K35,N35,Q35,T35,W35,Z35,AC35,AF35,AI35) -> 0 | AM35: =SUM(C35,F35,I35,L35,O35,R35,U35,X35,AA35,AD35,AG35,AJ35) -> 0
A36: Insurance | B36: 0 | C36: 0 | D36: Insurance | E36: 0 | F36: 0 | G36: Insurance | H36: 0 | I36: 0 | J36: Insurance | K36: 0 | L36: 0 | M36: Insurance | N36: 0 | O36: 0 | P36: Insurance | Q36: 0 | R36: 0 | S36: Insurance | T36: 0 | U36: 0 | V36: Insurance | W36: 0 | X36: 0 | Y36: Insurance | Z36: 0 | AA36: 0 | AB36: Insurance | AC36: 0 | AD36: 0 | AE36: Insurance | AF36: 0 | AG36: 0 | AH36: Insurance | AI36: 0 | AJ36: 0 | AK36: Insurance | AL36: =SUM(B36,E36,H36,K36,N36,Q36,T36,W36,Z36,AC36,AF36,AI36) -> 0 | AM36: =SUM(C36,F36,I36,L36,O36,R36,U36,X36,AA36,AD36,AG36,AJ36) -> 0
A37: Licensing | B37: 0 | C37: 0 | D37: Licensing | E37: 0 | F37: 0 | G37: Licensing | H37: 0 | I37: 0 | J37: Licensing | K37: 0 | L37: 0 | M37: Licensing | N37: 0 | O37: 0 | P37: Licensing | Q37: 0 | R37: 0 | S37: Licensing | T37: 0 | U37: 0 | V37: Licensing | W37: 0 | X37: 0 | Y37: Licensing | Z37: 0 | AA37: 0 | AB37: Licensing | AC37: 0 | AD37: 0 | AE37: Licensing | AF37: 0 | AG37: 0 | AH37: Licensing | AI37: 0 | AJ37: 0 | AK37: Licensing | AL37: =SUM(B37,E37,H37,K37,N37,Q37,T37,W37,Z37,AC37,AF37,AI37) -> 0 | AM37: =SUM(C37,F37,I37,L37,O37,R37,U37,X37,AA37,AD37,AG37,AJ37) -> 0
A38: Fuel | B38: 0 | C38: 0 | D38: Fuel | E38: 0 | F38: 0 | G38: Fuel | H38: 0 | I38: 0 | J38: Fuel | K38: 0 | L38: 0 | M38: Fuel | N38: 0 | O38: 0 | P38: Fuel | Q38: 0 | R38: 0 | S38: Fuel | T38: 0 | U38: 0 | V38: Fuel | W38: 0 | X38: 0 | Y38: Fuel | Z38: 0 | AA38: 0 | AB38: Fuel | AC38: 0 | AD38: 0 | AE38: Fuel | AF38: 0 | AG38: 0 | AH38: Fuel | AI38: 0 | AJ38: 0 | AK38: Fuel | AL38: =SUM(B38,E38,H38,K38,N38,Q38,T38,W38,Z38,AC38,AF38,AI38) -> 0 | AM38: =SUM(C38,F38,I38,L38,O38,R38,U38,X38,AA38,AD38,AG38,AJ38) -> 0
A39: Maintenance/Oil Change | B39: 0 | C39: 0 | D39: Maintenance/Oil Change | E39: 0 | F39: 0 | G39: Maintenance/Oil Change | H39: 0 | I39: 0 | J39: Maintenance/Oil Change | K39: 0 | L39: 0 | M39: Maintenance/Oil Change | N39: 0 | O39: 0 | P39: Maintenance/Oil Change | Q39: 0 | R39: 0 | S39: Maintenance/Oil Change | T39: 0 | U39: 0 | V39: Maintenance/Oil Change | W39: 0 | X39: 0 | Y39: Maintenance/Oil Change | Z39: 0 | AA39: 0 | AB39: Maintenance/Oil Change | AC39: 0 | AD39: 0 | AE39: Maintenance/Oil Change | AF39: 0 | AG39: 0 | AH39: Maintenance/Oil Change | AI39: 0 | AJ39: 0 | AK39: Maintenance/Oil Change | AL39: =SUM(B39,E39,H39,K39,N39,Q39,T39,W39,Z39,AC39,AF39,AI39) -> 0 | AM39: =SUM(C39,F39,I39,L39,O39,R39,U39,X39,AA39,AD39,AG39,AJ39) -> 0
A40: Other | B40: 0 | C40: 0 | D40: Other | E40: 0 | F40: 0 | G40: Other | H40: 0 | I40: 0 | J40: Other | K40: 0 | L40: 0 | M40: Other | N40: 0 | O40: 0 | P40: Other | Q40: 0 | R40: 0 | S40: Other | T40: 0 | U40: 0 | V40: Other | W40: 0 | X40: 0 | Y40: Other | Z40: 0 | AA40: 0 | AB40: Other | AC40: 0 | AD40: 0 | AE40: Other | AF40: 0 | AG40: 0 | AH40: Other | AI40: 0 | AJ40: 0 | AK40: Other | AL40: =SUM(B40,E40,H40,K40,N40,Q40,T40,W40,Z40,AC40,AF40,AI40) -> 0 | AM40: =SUM(C40,F40,I40,L40,O40,R40,U40,X40,AA40,AD40,AG40,AJ40) -> 0
A41: Subtotals: | B41: =SUM(B32:B40) -> 0 | C41: =SUM(C32:C40) -> 0 | D41: Subtotals: | E41: =SUM(E32:E40) -> 0 | F41: =SUM(F32:F40) -> 0 | G41: Subtotals: | H41: =SUM(H32:H40) -> 0 | I41: =SUM(I32:I40) -> 0 | J41: Subtotals: | K41: =SUM(K32:K40) -> 0 | L41: =SUM(L32:L40) -> 0 | M41: Subtotals: | N41: =SUM(N32:N40) -> 0 | O41: =SUM(O32:O40) -> 0 | P41: Subtotals: | Q41: =SUM(Q32:Q40) -> 0 | R41: =SUM(R32:R40) -> 0 | S41: Subtotals: | T41: =SUM(T32:T40) -> 0 | U41: =SUM(U32:U40) -> 0 | V41: Subtotals: | W41: =SUM(W32:W40) -> 0 | X41: =SUM(X32:X40) -> 0 | Y41: Subtotals: | Z41: =SUM(Z32:Z40) -> 0 | AA41: =SUM(AA32:AA40) -> 0 | AB41: Subtotals: | AC41: =SUM(AC32:AC40) -> 0 | AD41: =SUM(AD32:AD40) -> 0 | AE41: Subtotals: | AF41: =SUM(AF32:AF40) -> 0 | AG41: =SUM(AG32:AG40) -> 0 | AH41: Subtotals: | AI41: =SUM(AI32:AI40) -> 0 | AJ41: =SUM(AJ32:AJ40) -> 0 | AK41: Subtotals: | AL41: =SUM(AL32:AL40) -> 0 | AM41: =SUM(AM32:AM40) -> 0
A42: Food | B42: Projected | C42: Actual | D42: Food | E42: Projected | F42: Actual | G42: Food | H42: Projected | I42: Actual | J42: Food | K42: Projected | L42: Actual | M42: Food | N42: Projected | O42: Actual | P42: Food | Q42: Projected | R42: Actual | S42: Food | T42: Projected | U42: Actual | V42: Food | W42: Projected | X42: Actual | Y42: Food | Z42: Projected | AA42: Actual | AB42: Food | AC42: Projected | AD42: Actual | AE42: Food | AF42: Projected | AG42: Actual | AH42: Food | AI42: Projected | AJ42: Actual | AK42: Food | AL42: Projected | AM42: Actual
...

Sheet INCOME STATEMENT
A1: 2025 Income Statement - Q1 | D1: 2025 Income Statement - Q2 | G1: 2025 Income Statement - Q3 | J1: 2025 Income Statement - Q4 | M1: 2025 Income Statement - FY | R1: 2025 Income Statement Vertical Analysis - FY
N2: Q1 | O2: Q2 | P2: Q3 | Q2: Q4 | S2: Q1 | T2: Q2 | U2: Q3 | V2: Q4
A3: Monthly Income | D3: Monthly Income | G3: Monthly Income | J3: Monthly Income | M3: Monthly Income | R3: Revenue
A4: Income 1 | B4: =SUM('--- BUDGET ---'!C4,'--- BUDGET ---'!F4,'--- BUDGET ---'!I4) -> 0 | D4: Income 1 | E4: =SUM('--- BUDGET ---'!L4,'--- BUDGET ---'!O4,'--- BUDGET ---'!R4) -> 0 | G4: Income 1 | H4: =SUM('--- BUDGET ---'!U4,'--- BUDGET ---'!X4,'--- BUDGET ---'!AA4) -> 0 | J4: Income 1 | K4: =SUM('--- BUDGET ---'!AD4,'--- BUDGET ---'!AG4,'--- BUDGET ---'!AJ4) -> 0 | M4: Income 1 | N4: =SUM(B4) -> 0 | O4: =SUM(E4) -> 0 | P4: =SUM(H4) -> 0 | Q4: =SUM(K4) -> 0 | R4: Income 1 | S4: =SUM(N4/N12) -> #DIV/0! | T4: =SUM(O4/O12) -> #DIV/0! | U4: =SUM(P4/P12) -> #DIV/0! | V4: =SUM(Q4/Q12) -> #DIV/0!
A5: Income 2 | B5: =SUM('--- BUDGET ---'!C5,'--- BUDGET ---'!F5,'--- BUDGET ---'!I5) -> 0 | D5: Income 2 | E5: =SUM('--- BUDGET ---'!L5,'--- BUDGET ---'!O5,'--- BUDGET ---'!R5) -> 0 | G5: Income 2 | H5: =SUM('--- BUDGET ---'!U5,'--- BUDGET ---'!X5,'--- BUDGET ---'!AA5) -> 0 | J5: Income 2 | K5: =SUM('--- BUDGET ---'!AD5,'--- BUDGET ---'!AG5,'--- BUDGET ---'!AJ5) -> 0 | M5: Income 2 | N5: =SUM(B5) -> 0 | O5: =SUM(E5) -> 0 | P5: =SUM(H5) -> 0 | Q5: =SUM(K5) -> 0 | R5: Income 2 | S5: =SUM(N5/N12) -> #DIV/0! | T5: =SUM(O5/O12) -> #DIV/0! | U5: =SUM(P5/P12) -> #DIV/0! | V5: =SUM(Q5/Q12) -> #DIV/0!
A6: Income 3 | B6: =SUM('--- BUDGET ---'!C6,'--- BUDGET ---'!F6,'--- BUDGET ---'!I6) -> 0 | D6: Income 3 | E6: =SUM('--- BUDGET ---'!L6,'--- BUDGET ---'!O6,'--- BUDGET ---'!R6) -> 0 | G6: Income 3 | H6: =SUM('--- BUDGET ---'!U6,'--- BUDGET ---'!X6,'--- BUDGET ---'!AA6) -> 0 | J6: Income 3 | K6: =SUM('--- BUDGET ---'!AD6,'--- BUDGET ---'!AG6,'--- BUDGET ---'!AJ6) -> 0 | M6: Income 3 | N6: =SUM(B6) -> 0 | O6: =SUM(E6) -> 0 | P6: =SUM(H6) -> 0 | Q6: =SUM(K6) -> 0 | R6: Income 3 | S6: =SUM(N6/N12) -> #DIV/0! | T6: =SUM(O6/O12) -> #DIV/0! | U6: =SUM(P6/P12) -> #DIV/0! | V6: =SUM(Q6/Q12) -> #DIV/0!
A7: Income 4 | B7: =SUM('--- BUDGET ---'!C7,'--- BUDGET ---'!F7,'--- BUDGET ---'!I7) -> 0 | D7: Income 4 | E7: =SUM('--- BUDGET ---'!L7,'--- BUDGET ---'!O7,'--- BUDGET ---'!R7) -> 0 | G7: Income 4 | H7: =SUM('--- BUDGET ---'!U7,'--- BUDGET ---'!X7,'--- BUDGET ---'!AA7) -> 0 | J7: Income 4 | K7: =SUM('--- BUDGET ---'!AD7,'--- BUDGET ---'!AG7,'--- BUDGET ---'!AJ7) -> 0 | M7: Income 4 | N7: =SUM(B7) -> 0 | O7: =SUM(E7) -> 0 | P7: =SUM(H7) -> 0 | Q7: =SUM(K7) -> 0 | R7: Income 4 | S7: =SUM(N7/N12) -> #DIV/0! | T7: =SUM(O7/O12) -> #DIV/0! | U7: =SUM(P7/P12) -> #DIV/0! | V7: =SUM(Q7/Q12) -> #DIV/0!
A8: Banking Interest | B8: =SUM('--- BUDGET ---'!C8,'--- BUDGET ---'!F8,'--- BUDGET ---'!I8) -> 0 | D8: Banking Interest | E8: =SUM('--- BUDGET ---'!L8,'--- BUDGET ---'!O8,'--- BUDGET ---'!R8) -> 0 | G8: Banking Interest | H8: =SUM('--- BUDGET ---'!U8,'--- BUDGET ---'!X8,'--- BUDGET ---'!AA8) -> 0 | J8: Banking Interest | K8: =SUM('--- BUDGET ---'!AD8,'--- BUDGET ---'!AG8,'--- BUDGET ---'!AJ8) -> 0 | M8: Banking Interest | N8: =SUM(B8) -> 0 | O8: =SUM(E8) -> 0 | P8: =SUM(H8) -> 0 | Q8: =SUM(K8) -> 0 | R8: Banking Interest | S8: =SUM(N8/N12) -> #DIV/0! | T8: =SUM(O8/O12) -> #DIV/0! | U8: =SUM(P8/P12) -> #DIV/0! | V8: =SUM(Q8/Q12) -> #DIV/0!
A9: Credit Card Rewards | B9: =SUM('--- BUDGET ---'!C9,'--- BUDGET ---'!F9,'--- BUDGET ---'!I9) -> 0 | D9: Credit Card Rewards | E9: =SUM('--- BUDGET ---'!L9,'--- BUDGET ---'!O9,'--- BUDGET ---'!R9) -> 0 | G9: Credit Card Rewards | H9: =SUM('--- BUDGET ---'!U9,'--- BUDGET ---'!X9,'--- BUDGET ---'!AA9) -> 0 | J9: Credit Card Rewards | K9: =SUM('--- BUDGET ---'!AD9,'--- BUDGET ---'!AG9,'--- BUDGET ---'!AJ9) -> 0 | M9: Credit Card Rewards | N9: =SUM(B9) -> 0 | O9: =SUM(E9) -> 0 | P9: =SUM(H9) -> 0 | Q9: =SUM(K9) -> 0 | R9: Credit Card Rewards | S9: =SUM(N9/N12) -> #DIV/0! | T9: =SUM(O9/O12) -> #DIV/0! | U9: =SUM(P9/P12) -> #DIV/0! | V9: =SUM(Q9/Q12) -> #DIV/0!
A10: Venmo | B10: =SUM('--- BUDGET ---'!C10,'--- BUDGET ---'!F10,'--- BUDGET ---'!I10) -> 0 | D10: Venmo | E10: =SUM('--- BUDGET ---'!L10,'--- BUDGET ---'!O10,'--- BUDGET ---'!R10) -> 0 | G10: Venmo | H10: =SUM('--- BUDGET ---'!U10,'--- BUDGET ---'!X10,'--- BUDGET ---'!AA10) -> 0 | J10: Venmo | K10: =SUM('--- BUDGET ---'!AD10,'--- BUDGET ---'!AG10,'--- BUDGET ---'!AJ10) -> 0 | M10: Venmo | N10: =SUM(B10) -> 0 | O10: =SUM(E10) -> 0 | P10: =SUM(H10) -> 0 | Q10: =SUM(K10) -> 0 | R10: Venmo | S10: =SUM(N10/N12) -> #DIV/0! | T10: =SUM(O10/O12) -> #DIV/0! | U10: =SUM(P10/P12) -> #DIV/0! | V10: =SUM(Q10/Q12) -> #DIV/0!
A11: Other | B11: =SUM('--- BUDGET ---'!C11,'--- BUDGET ---'!F11,'--- BUDGET ---'!I11) -> 0 | D11: Other | E11: =SUM('--- BUDGET ---'!L11,'--- BUDGET ---'!O11,'--- BUDGET ---'!R11) -> 0 | G11: Other | H11: =SUM('--- BUDGET ---'!U11,'--- BUDGET ---'!X11,'--- BUDGET ---'!AA11) -> 0 | J11: Other | K11: =SUM('--- BUDGET ---'!AD11,'--- BUDGET ---'!AG11,'--- BUDGET ---'!AJ11) -> 0 | M11: Other | N11: =SUM(B11) -> 0 | O11: =SUM(E11) -> 0 | P11: =SUM(H11) -> 0 | Q11: =SUM(K11) -> 0 | R11: Other | S11: =SUM(N11/N12) -> #DIV/0! | T11: =SUM(O11/O12) -> #DIV/0! | U11: =SUM(P11/P12) -> #DIV/0! | V11: =SUM(Q11/Q12) -> #DIV/0!
A12: Total Revenue | C12: =SUM('--- BUDGET ---'!C12,'--- BUDGET ---'!F12,'--- BUDGET ---'!I12) -> 0 | D12: Total Revenue | F12: =SUM('--- BUDGET ---'!L12,'--- BUDGET ---'!O12,'--- BUDGET ---'!R12) -> 0 | G12: Total Revenue | I12: =SUM('--- BUDGET ---'!U12,'--- BUDGET ---'!X12,'--- BUDGET ---'!AA12) -> 0 | J12: Total Revenue | L12: =SUM('--- BUDGET ---'!AD12,'--- BUDGET ---'!AG12,'--- BUDGET ---'!AJ12) -> 0 | M12: Total Revenue | N12: =SUM(C12) -> 0 | O12: =SUM(F12) -> 0 | P12: =SUM(I12) -> 0 | Q12: =SUM(L12) -> 0 | R12: Total Revenue | S12: =SUM(N12/N12) -> #DIV/0! | T12: =SUM(O12/O12) -> #DIV/0! | U12: =SUM(P12/P12) -> #DIV/0! | V12: =SUM(Q12/Q12) -> #DIV/0!
A14: Expenses | D14: Expenses | G14: Expenses | J14: Expenses | M14: Expenses | R14: Expenses
A15: Housing | B15: =SUM('--- BUDGET ---'!C30,'--- BUDGET ---'!F30,'--- BUDGET ---'!I30) -> 0 | D15: Housing | E15: =SUM('--- BUDGET ---'!L30,'--- BUDGET ---'!O30,'--- BUDGET ---'!R30) -> 0 | G15: Housing | H15: =SUM('--- BUDGET ---'!U30,'--- BUDGET ---'!X30,'--- BUDGET ---'!AA30) -> 0 | J15: Housing | K15: =SUM('--- BUDGET ---'!AD30,'--- BUDGET ---'!AG30,'--- BUDGET ---'!AJ30) -> 0 | M15: Housing | N15: =SUM(B15) -> 0 | O15: =SUM(E15) -> 0 | P15: =SUM(H15) -> 0 | Q15: =SUM(K15) -> 0 | R15: Housing | S15: =SUM(N15/N12) -> #DIV/0! | T15: =SUM(O15/O12) -> #DIV/0! | U15: =SUM(P15/P12) -> #DIV/0! | V15: =SUM(Q15/Q12) -> #DIV/0!
A16: Transportation | B16: =SUM('--- BUDGET ---'!C41,'--- BUDGET ---'!F41,'--- BUDGET ---'!I41) -> 0 | D16: Transportation | E16: =SUM('--- BUDGET ---'!L41,'--- BUDGET ---'!O41,'--- BUDGET ---'!R41) -> 0 | G16: Transportation | H16: =SUM('--- BUDGET ---'!U41,'--- BUDGET ---'!X41,'--- BUDGET ---'!AA41) -> 0 | J16: Transportation | K16: =SUM('--- BUDGET ---'!AD41,'--- BUDGET ---'!AG41,'--- BUDGET ---'!AJ41) -> 0 | M16: Transportation | N16: =SUM(B16) -> 0 | O16: =SUM(E16) -> 0 | P16: =SUM(H16) -> 0 | Q16: =SUM(K16) -> 0 | R16: Transportation | S16: =SUM(N16/N12) -> #DIV/0! | T16: =SUM(O16/O12) -> #DIV/0! | U16: =SUM(P16/P12) -> #DIV/0! | V16: =SUM(Q16/Q12) -> #DIV/0!
A17: Food | B17: =SUM('--- BUDGET ---'!C48,'--- BUDGET ---'!F48,'--- BUDGET ---'!I48) -> 0 | D17: Food | E17: =SUM('--- BUDGET ---'!L48,'--- BUDGET ---'!O48,'--- BUDGET ---'!R48) -> 0 | G17: Food | H17: =SUM('--- BUDGET ---'!U48,'--- BUDGET ---'!X48,'--- BUDGET ---'!AA48) -> 0 | J17: Food | K17: =SUM('--- BUDGET ---'!AD48,'--- BUDGET ---'!AG48,'--- BUDGET ---'!AJ48) -> 0 | M17: Food | N17: =SUM(B17) -> 0 | O17: =SUM(E17) -> 0 | P17: =SUM(H17) -> 0 | Q17: =SUM(K17) -> 0 | R17: Food | S17: =SUM(N17/N12) -> #DIV/0! | T17: =SUM(O17/O12) -> #DIV/0! | U17: =SUM(P17/P12) -> #DIV/0! | V17: =SUM(Q17/Q12) -> #DIV/0!
A18: Personal Care | B18: =SUM('--- BUDGET ---'!C64,'--- BUDGET ---'!F64,'--- BUDGET ---'!I64) -> 0 | D18: Personal Care | E18: =SUM('--- BUDGET ---'!L64,'--- BUDGET ---'!O64,'--- BUDGET ---'!R64) -> 0 | G18: Personal Care | H18: =SUM('--- BUDGET ---'!U64,'--- BUDGET ---'!X64,'--- BUDGET ---'!AA64) -> 0 | J18: Personal Care | K18: =SUM('--- BUDGET ---'!AD64,'--- BUDGET ---'!AG64,'--- BUDGET ---'!AJ64) -> 0 | M18: Personal Care | N18: =SUM(B18) -> 0 | O18: =SUM(E18) -> 0 | P18: =SUM(H18) -> 0 | Q18: =SUM(K18) -> 0 | R18: Personal Care | S18: =SUM(N18/N12) -> #DIV/0! | T18: =SUM(O18/O12) -> #DIV/0! | U18: =SUM(P18/P12) -> #DIV/0! | V18: =SUM(Q18/Q12) -> #DIV/0!
A19: Children | B19: =SUM('--- BUDGET ---'!C76,'--- BUDGET ---'!F76,'--- BUDGET ---'!I76) -> 0 | D19: Children | E19: =SUM('--- BUDGET ---'!L76,'--- BUDGET ---'!O76,'--- BUDGET ---'!R76) -> 0 | G19: Children | H19: =SUM('--- BUDGET ---'!U76,'--- BUDGET ---'!X76,'--- BUDGET ---'!AA76) -> 0 | J19: Children | K19: =SUM('--- BUDGET ---'!AD76,'--- BUDGET ---'!AG76,'--- BUDGET ---'!AJ76) -> 0 | M19: Children | N19: =B19 -> 0 | O19: =E19 -> 0 | P19: =H19 -> 0 | Q19: =K19 -> 0 | R19: Children | S19: =N19/N12 -> #DIV/0! | T19: =O19/O12 -> #DIV/0! | U19: =P19/P12 -> #DIV/0! | V19: =Q19/Q12 -> #DIV/0!
A20: Other | B20: =SUM('--- BUDGET ---'!C84,'--- BUDGET ---'!F84,'--- BUDGET ---'!I84) -> 0 | D20: Other | E20: =SUM('--- BUDGET ---'!L84,'--- BUDGET ---'!O84,'--- BUDGET ---'!R84) -> 0 | G20: Other | H20: =SUM('--- BUDGET ---'!U84,'--- BUDGET ---'!X84,'--- BUDGET ---'!AA84) -> 0 | J20: Other | K20: =SUM('--- BUDGET ---'!AD84,'--- BUDGET ---'!AG84,'--- BUDGET ---'!AJ84) -> 0 | M20: Other | N20: =SUM(B20) -> 0 | O20: =SUM(E20) -> 0 | P20: =SUM(H20) -> 0 | Q20: =SUM(K20) -> 0 | R20: Other | S20: =SUM(N20/N12) -> #DIV/0! | T20: =SUM(O20/O12) -> #DIV/0! | U20: =SUM(P20/P12) -> #DIV/0! | V20: =SUM(Q20/Q12) -> #DIV/0!
A21: Total Expenses | C21: =SUM(B15:B20) -> 0 | D21: Total Expenses | F21: =SUM(E15:E20) -> 0 | G21: Total Expenses | I21: =SUM(H15:H20) -> 0 | J21: Total Expenses | L21: =SUM(K15:K20) -> 0 | M21: Total Expenses | N21: =SUM(C21) -> 0 | O21: =SUM(F21) -> 0 | P21: =SUM(I21) -> 0 | Q21: =SUM(L21) -> 0 | R21: Total Expenses | S21: =SUM(N21/N12) -> #DIV/0! | T21: =SUM(O21/O12) -> #DIV/0! | U21: =SUM(P21/P12) -> #DIV/0! | V21: =SUM(Q21/Q12) -> #DIV/0!
A23: Net Income | D23: Net Income | G23: Net Income | J23: Net Income | M23: Net Income | R23: Net Income
A24: Total Revenue | B24: =SUM(C12) -> 0 | D24: Total Revenue | E24: =SUM(F12) -> 0 | G24: Total Revenue | H24: =SUM(I12) -> 0 | J24: Total Revenue | K24: =SUM(L12) -> 0 | M24: Total Revenue | N24: =SUM(B24) -> 0 | O24: =SUM(E24) -> 0 | P24: =SUM(H24) -> 0 | Q24: =SUM(K24) -> 0 | R24: Total Revenue | S24: =SUM(N24/N12) -> #DIV/0! | T24: =SUM(O24/O12) -> #DIV/0! | U24: =SUM(P24/P12) -> #DIV/0! | V24: =SUM(Q24/Q12) -> #DIV/0!
A25: Less Total Expenses | B25: =SUM(C21) -> 0 | D25: Less Total Expenses | E25: =SUM(F21) -> 0 | G25: Less Total Expenses | H25: =SUM(I21) -> 0 | J25: Less Total Expenses | K25: =SUM(L21) -> 0 | M25: Less Total Expenses | N25: =SUM(B25) -> 0 | O25: =SUM(E25) -> 0 | P25: =SUM(H25) -> 0 | Q25: =SUM(K25) -> 0 | R25: Less Total Expenses | S25: =SUM(N25/N12) -> #DIV/0! | T25: =SUM(O25/O12) -> #DIV/0! | U25: =SUM(P25/P12) -> #DIV/0! | V25: =SUM(Q25/Q12) -> #DIV/0!
A26: Total Net Income | C26: =SUM(B24-B25) -> 0 | D26: Total Net Income | F26: =SUM(E24-E25) -> 0 | G26: Total Net Income | I26: =SUM(H24-H25) -> 0 | J26: Total Net Income | L26: =SUM(K24-K25) -> 0 | M26: Total Net Income | N26: =SUM(C26) -> 0 | O26: =SUM(F26) -> 0 | P26: =SUM(I26) -> 0 | Q26: =SUM(L26) -> 0 | R26: Total Net Income | S26: =SUM(N26/N12) -> #DIV/0! | T26: =SUM(O26/O12) -> #DIV/0! | U26: =SUM(P26/P12) -> #DIV/0! | V26: =SUM(Q26/Q12) -> #DIV/0!

Sheet BALANCE SHEET
A1: 2025 Balance Sheet - Q1 | D1: 2025 Balance Sheet - Q2 | G1: 2025 Balance Sheet - Q3 | J1: 2025 Balance Sheet - Q4 | M1: 2025 Balance Sheet - FY | R1: 2025 Balance Sheet Vertical Analysis - FY
N2: Q1 | O2: Q2 | P2: Q3 | Q2: Q4 | S2: Q1 | T2: Q2 | U2: Q3 | V2: Q4
A3: Current Assets | D3: Current Assets | G3: Current Assets | J3: Current Assets | M3: Current Assets | R3: Current Assets
A4: Cash-Checking | B4: 0 | D4: Cash-Checking | E4: 0 | G4: Cash-Checking | H4: 0 | J4: Cash-Checking | K4: 0 | M4: Cash-Checking | N4: =SUM(B4) -> 0 | O4: =SUM(E4) -> 0 | P4: =SUM(H4) -> 0 | Q4: =SUM(K4) -> 0 | R4: Cash-Checking | S4: =SUM(N4/N23) -> #DIV/0! | T4: =SUM(O4/O23) -> #DIV/0! | U4: =SUM(P4/P23) -> #DIV/0! | V4: =SUM(Q4/Q23) -> #DIV/0!
A5: Cash-Savings | B5: 0 | D5: Cash-Savings | E5: 0 | G5: Cash-Savings | H5: 0 | J5: Cash-Savings | K5: 0 | M5: Cash-Savings | N5: =SUM(B5) -> 0 | O5: =SUM(E5) -> 0 | P5: =SUM(H5) -> 0 | Q5: =SUM(K5) -> 0 | R5: Cash-Savings | S5: =SUM(N5/N23) -> #DIV/0! | T5: =SUM(O5/O23) -> #DIV/0! | U5: =SUM(P5/P23) -> #DIV/0! | V5: =SUM(Q5/Q23) -> #DIV/0!
A6: Other Bank Acct. | B6: 0 | D6: Other Bank Acct. | E6: 0 | G6: Other Bank Acct. | H6: 0 | J6: Other Bank Acct. | K6: 0 | M6: Other Bank Acct. | N6: =SUM(B6) -> 0 | O6: =SUM(E6) -> 0 | P6: =SUM(H6) -> 0 | Q6: =SUM(K6) -> 0 | R6: Other Bank Acct. | S6: =SUM(N6/N23) -> #DIV/0! | T6: =SUM(O6/O23) -> #DIV/0! | U6: =SUM(P6/P23) -> #DIV/0! | V6: =SUM(Q6/Q23) -> #DIV/0!
A7: Brokerage Acct. | B7: 0 | D7: Brokerage Acct. | E7: 0 | G7: Brokerage Acct. | H7: 0 | J7: Brokerage Acct. | K7: 0 | M7: Brokerage Acct. | N7: =SUM(B7) -> 0 | O7: =SUM(E7) -> 0 | P7: =SUM(H7) -> 0 | Q7: =SUM(K7) -> 0 | R7: Brokerage Acct. | S7: =SUM(N7/N23) -> #DIV/0! | T7: =SUM(O7/O23) -> #DIV/0! | U7: =SUM(P7/P23) -> #DIV/0! | V7: =SUM(Q7/Q23) -> #DIV/0!
A8: Crypto Acct. | B8: 0 | D8: Crypto Acct. | E8: 0 | G8: Crypto Acct. | H8: 0 | J8: Crypto Acct. | K8: 0 | M8: Crypto Acct. | N8: =SUM(B8) -> 0 | O8: =SUM(E8) -> 0 | P8: =SUM(H8) -> 0 | Q8: =SUM(K8) -> 0 | R8: Crypto Acct. | S8: =SUM(N8/N23) -> #DIV/0! | T8: =SUM(O8/O23) -> #DIV/0! | U8: =SUM(P8/P23) -> #DIV/0! | V8: =SUM(Q8/Q23) -> #DIV/0!
A9: Inventory (Camper, Boat, etc.) | B9: 0 | D9: Inventory (Camper, Boat, etc.) | E9: 0 | G9: Inventory (Camper, Boat, etc.) | H9: 0 | J9: Inventory (Camper, Boat, etc.) | K9: 0 | M9: Inventory (Camper, Boat, etc.) | N9: =SUM(B9) -> 0 | O9: =SUM(E9) -> 0 | P9: =SUM(H9) -> 0 | Q9: =SUM(K9) -> 0 | R9: Inventory (Camper, Boat, etc.) | S9: =SUM(N9/N23) -> #DIV/0! | T9: =SUM(O9/O23) -> #DIV/0! | U9: =SUM(P9/P23) -> #DIV/0! | V9: =SUM(Q9/Q23) -> #DIV/0!
A10: Other | B10: 0 | D10: Other | E10: 0 | G10: Other | H10: 0 | J10: Other | K10: 0 | M10: Other | N10: =SUM(B10) -> 0 | O10: =SUM(E10) -> 0 | P10: =SUM(H10) -> 0 | Q10: =SUM(K10) -> 0 | R10: Other | S10: =SUM(N10/N23) -> #DIV/0! | T10: =SUM(O10/O23) -> #DIV/0! | U10: =SUM(P10/P23) -> #DIV/0! | V10: =SUM(Q10/Q23) -> #DIV/0!
A11: Total Current Assets | B11: =SUM(B4:B10) -> 0 | D11: Total Current Assets | E11: =SUM(E4:E10) -> 0 | G11: Total Current Assets | H11: =SUM(H4:H10) -> 0 | J11: Total Current Assets | K11: =SUM(K4:K10) -> 0 | M11: Total Current Assets | N11: =SUM(B11) -> 0 | O11: =SUM(E11) -> 0 | P11: =SUM(H11) -> 0 | Q11: =SUM(K11) -> 0 | R11: Total Current Assets | S11: =SUM(N11/N23) -> #DIV/0! | T11: =SUM(O11/O23) -> #DIV/0! | U11: =SUM(P11/P23) -> #DIV/0! | V11: =SUM(Q11/Q23) -> #DIV/0!
A12: Long-Term Assets | D12: Long-Term Assets | G12: Long-Term Assets | J12: Long-Term Assets | M12: Long-Term Assets | R12: Long-Term Assets
A13: Employment Retirement 1 Balance | B13: 0 | D13: Employment Retirement 1 Balance | E13: 0 | G13: Employment Retirement 1 Balance | H13: 0 | J13: Employment Retirement 1 Balance | K13: 0 | M13: Employment Retirement 1 Balance | N13: =SUM(B13) -> 0 | O13: =SUM(E13) -> 0 | P13: =SUM(H13) -> 0 | Q13: =SUM(K13) -> 0 | R13: Employment Retirement 1 Balance | S13: =SUM(N13/N23) -> #DIV/0! | T13: =SUM(O13/O23) -> #DIV/0! | U13: =SUM(P13/P23) -> #DIV/0! | V13: =SUM(Q13/Q23) -> #DIV/0!
A14: Employment Retirement 2 Balance | B14: 0 | D14: Employment Retirement 2 Balance | E14: 0 | G14: Employment Retirement 2 Balance | H14: 0 | J14: Employment Retirement 2 Balance | K14: 0 | M14: Employment Retirement 2 Balance | N14: =SUM(B14) -> 0 | O14: =SUM(E14) -> 0 | P14: =SUM(H14) -> 0 | Q14: =SUM(K14) -> 0 | R14: Employment Retirement 2 Balance | S14: =SUM(N14/N23) -> #DIV/0! | T14: =SUM(O14/O23) -> #DIV/0! | U14: =SUM(P14/P23) -> #DIV/0! | V14: =SUM(Q14/Q23) -> #DIV/0!
A15: IRA 1 Balance | B15: 0 | D15: IRA 1 Balance | E15: 0 | G15: IRA 1 Balance | H15: 0 | J15: IRA 1 Balance | K15: 0 | M15: IRA 1 Balance | N15: =SUM(B15) -> 0 | O15: =SUM(E15) -> 0 | P15: =SUM(H15) -> 0 | Q15: =SUM(K15) -> 0 | R15: IRA 1 Balance | S15: =SUM(N15/N23) -> #DIV/0! | T15: =SUM(O15/O23) -> #DIV/0! | U15: =SUM(P15/P23) -> #DIV/0! | V15: =SUM(Q15/Q23) -> #DIV/0!
A16: IRA 2 Balance | B16: 0 | D16: IRA 2 Balance | E16: 0 | G16: IRA 2 Balance | H16: 0 | J16: IRA 2 Balance | K16: 0 | M16: IRA 2 Balance | N16: =SUM(B16) -> 0 | O16: =SUM(E16) -> 0 | P16: =SUM(H16) -> 0 | Q16: =SUM(K16) -> 0 | R16: IRA 2 Balance | S16: =SUM(N16/N23) -> #DIV/0! | T16: =SUM(O16/O23) -> #DIV/0! | U16: =SUM(P15/P23) -> #DIV/0! | V16: =SUM(Q16/Q23) -> #DIV/0!
A17: Home (Residence) | B17: 0 | D17: Home (Residence) | E17: 0 | G17: Home (Residence) | H17: 0 | J17: Home (Residence) | K17: 0 | M17: Home (Residence) | N17: =SUM(B17) -> 0 | O17: =SUM(E17) -> 0 | P17: =SUM(H17) -> 0 | Q17: =SUM(K17) -> 0 | R17: Home (Residence) | S17: =SUM(N17/N23) -> #DIV/0! | T17: =SUM(O17/O23) -> #DIV/0! | U17: =SUM(P17/P23) -> #DIV/0! | V17: =SUM(Q17/Q23) -> #DIV/0!
A18: Vehicle 1 | B18: 0 | D18: Vehicle 1 | E18: 0 | G18: Vehicle 1 | H18: 0 | J18: Vehicle 1 | K18: 0 | M18: Vehicle 1 | N18: =SUM(B18) -> 0 | O18: =SUM(E18) -> 0 | P18: =SUM(H18) -> 0 | Q18: =SUM(K18) -> 0 | R18: Vehicle 1 | S18: =SUM(N18/N23) -> #DIV/0! | T18: =SUM(O18/O23) -> #DIV/0! | U18: =SUM(P18/P23) -> #DIV/0! | V18: =SUM(Q18/Q23) -> #DIV/0!
A19: Vehicle 2 | B19: 0 | D19: Vehicle 2 | E19: 0 | G19: Vehicle 2 | H19: 0 | J19: Vehicle 2 | K19: 0 | M19: Vehicle 2 | N19: =SUM(B19) -> 0 | O19: =SUM(E19) -> 0 | P19: =SUM(H19) -> 0 | Q19: =SUM(K19) -> 0 | R19: Vehicle 2 | S19: =SUM(N19/N23) -> #DIV/0! | T19: =SUM(O19/O23) -> #DIV/0! | U19: =SUM(P19/P23) -> #DIV/0! | V19: =SUM(Q19/Q23) -> #DIV/0!
A20: Vehicle 3 | B20: 0 | D20: Vehicle 3 | E20: 0 | G20: Vehicle 3 | H20: 0 | J20: Vehicle 3 | K20: 0 | M20: Vehicle 3 | N20: =SUM(B20) -> 0 | O20: =SUM(E20) -> 0 | P20: =SUM(H20) -> 0 | Q20: =SUM(K20) -> 0 | R20: Vehicle 3 | S20: =SUM(N20/N23) -> #DIV/0! | T20: =SUM(O20/O23) -> #DIV/0! | U20: =SUM(P20/P23) -> #DIV/0! | V20: =SUM(Q20/Q23) -> #DIV/0!
A21: Jewelery | B21: 0 | D21: Jewelery | E21: 0 | G21: Jewelery | H21: 0 | J21: Jewelery | K21: 0 | M21: Jewelery | N21: =SUM(B21) -> 0 | O21: =SUM(E21) -> 0 | P21: =SUM(H21) -> 0 | Q21: =SUM(K21) -> 0 | R21: Jewelery | S21: =SUM(N21/N23) -> #DIV/0! | T21: =SUM(O21/O23) -> #DIV/0! | U21: =SUM(P21/P23) -> #DIV/0! | V21: =SUM(Q21/Q23) -> #DIV/0!
A22: Total Long-Term Assets | B22: =SUM(B13:B21) -> 0 | D22: Total Long-Term Assets | E22: =SUM(E13:E21) -> 0 | G22: Total Long-Term Assets | H22: =SUM(H13:H21) -> 0 | J22: Total Long-Term Assets | K22: =SUM(K13:K21) -> 0 | M22: Total Long-Term Assets | N22: =SUM(B22) -> 0 | O22: =SUM(E22) -> 0 | P22: =SUM(H22) -> 0 | Q22: =SUM(K22) -> 0 | R22: Total Long-Term Assets | S22: =SUM(N22/N23) -> #DIV/0! | T22: =SUM(O22/O23) -> #DIV/0! | U22: =SUM(P22/P23) -> #DIV/0! | V22: =SUM(Q22/Q23) -> #DIV/0!
A23: Total Assets | C23: =SUM(B11+B22) -> 0 | D23: Total Assets | F23: =SUM(E11+E22) -> 0 | G23: Total Assets | I23: =SUM(H11+H22) -> 0 | J23: Total Assets | L23: =SUM(K11+K22) -> 0 | M23: Total Assets | N23: =SUM(C23) -> 0 | O23: =SUM(F23) -> 0 | P23: =SUM(I23) -> 0 | Q23: =SUM(L23) -> 0 | R23: Total Assets | S23: =SUM(N23/N23) -> #DIV/0! | T23: =SUM(O23/O23) -> #DIV/0! | U23: =SUM(P23/P23) -> #DIV/0! | V23: =SUM(Q23/Q23) -> #DIV/0!
A25: Current Liabilities | D25: Current Liabilities | G25: Current Liabilities | J25: Current Liabilities | M25: Current Liabilities | R25: Current Liabilities
A26: Credit Cards | B26: 0 | D26: Credit Cards | E26: 0 | G26: Credit Cards | H26: 0 | J26: Credit Cards | K26: 0 | M26: Credit Cards | N26: =SUM(B26) -> 0 | O26: =SUM(E26) -> 0 | P26: =SUM(H26) -> 0 | Q26: =SUM(K26) -> 0 | R26: Credit Cards | S26: =SUM(N26/N23) -> #DIV/0! | T26: =SUM(O26/O23) -> #DIV/0! | U26: =SUM(P26/P23) -> #DIV/0! | V26: =SUM(Q26/Q23) -> #DIV/0!
A27: Medical | B27: 0 | D27: Medical | E27: 0 | G27: Medical | H27: 0 | J27: Medical | K27: 0 | M27: Medical | N27: =B27 -> 0 | O27: =E27 -> 0 | P27: =H27 -> 0 | Q27: =K27 -> 0 | R27: Medical | S27: =SUM(N27/N23) -> #DIV/0! | T27: =SUM(O27/O23) -> #DIV/0! | U27: =SUM(P27/P23) -> #DIV/0! | V27: =SUM(Q27/Q23) -> #DIV/0!
A28: Education | B28: 0 | D28: Education | E28: 0 | G28: Education | H28: 0 | J28: Education | K28: 0 | M28: Education | N28: =B28 -> 0 | O28: =E28 -> 0 | P28: =H28 -> 0 | Q28: =K28 -> 0 | R28: Education | S28: =SUM(N28/N23) -> #DIV/0! | T28: =SUM(O28/O23) -> #DIV/0! | U28: =SUM(P28/P23) -> #DIV/0! | V28: =SUM(Q28/Q23) -> #DIV/0!
A29: Other | B29: 0 | D29: Other | E29: 0 | G29: Other | H29: 0 | J29: Other | K29: 0 | M29: Other | N29: =B29 -> 0 | O29: =E29 -> 0 | P29: =H29 -> 0 | Q29: =K29 -> 0 | R29: Other | S29: =SUM(N29/N23) -> #DIV/0! | T29: =SUM(O29/O23) -> #DIV/0! | U29: =SUM(P29/P23) -> #DIV/0! | V29: =SUM(Q29/Q23) -> #DIV/0!
A30: Total Current Liabilities | B30: =SUM(B26:B29) -> 0 | D30: Total Current Liabilities | E30: =SUM(E26:E29) -> 0 | G30: Total Current Liabilities | H30: =SUM(H26:H29) -> 0 | J30: Total Current Liabilities | K30: =SUM(K26:K29) -> 0 | M30: Total Current Liabilities | N30: =SUM(B30) -> 0 | O30: =SUM(E30) -> 0 | P30: =SUM(H30) -> 0 | Q30: =SUM(K30) -> 0 | R30: Total Current Liabilities | S30: =SUM(N30/N23) -> #DIV/0! | T30: =SUM(O30/O23) -> #DIV/0! | U30: =SUM(P30/P23) -> #DIV/0! | V30: =SUM(Q30/Q23) -> #DIV/0!
A31: Long-Term Liabilities | D31: Long-Term Liabilities | G31: Long-Term Liabilities | J31: Long-Term Liabilities | M31: Long-Term Liabilities | R31: Long-Term Liabilities
A32: Home | B32: 0 | D32: Home | E32: 0 | G32: Home | H32: 0 | J32: Home | K32: 0 | M32: Home | N32: =SUM(B32) -> 0 | O32: =SUM(E32) -> 0 | P32: =SUM(H32) -> 0 | Q32: =SUM(K32) -> 0 | R32: Home | S32: =SUM(N32/N23) -> #DIV/0! | T32: =SUM(O32/O23) -> #DIV/0! | U32: =SUM(P32/P23) -> #DIV/0! | V32: =SUM(Q32/Q23) -> #DIV/0!
A33: Vehicle 1 | B33: 0 | D33: Vehicle 1 | E33: 0 | G33: Vehicle 1 | H33: 0 | J33: Vehicle 1 | K33: 0 | M33: Vehicle 1 | N33: =SUM(B33) -> 0 | O33: =SUM(E33) -> 0 | P33: =SUM(H33) -> 0 | Q33: =SUM(K33) -> 0 | R33: Vehicle 1 | S33: =SUM(N33/N23) -> #DIV/0! | T33: =SUM(O33/O23) -> #DIV/0! | U33: =SUM(P33/P23) -> #DIV/0! | V33: =SUM(Q33/Q23) -> #DIV/0!
A34: Vehicle 2 | B34: 0 | D34: Vehicle 2 | E34: 0 | G34: Vehicle 2 | H34: 0 | J34: Vehicle 2 | K34: 0 | M34: Vehicle 2 | N34: =B34 -> 0 | O34: =E34 -> 0 | P34: =H34 -> 0 | Q34: =K34 -> 0 | R34: Vehicle 2 | S34: =SUM(N34/N23) -> #DIV/0! | T34: =O34/O23 -> #DIV/0! | U34: =P34/P23 -> #DIV/0! | V34: =Q34/Q23 -> #DIV/0!
A35: Vehicle 3 | B35: 0 | D35: Vehicle 3 | E35: 0 | G35: Vehicle 3 | H35: 0 | J35: Vehicle 3 | K35: 0 | M35: Vehicle 3 | N35: =B35 -> 0 | O35: =E35 -> 0 | P35: =H35 -> 0 | Q35: =K35 -> 0 | R35: Vehicle 3 | S35: =SUM(N35/N23) -> #DIV/0! | T35: =SUM(O35/O23) -> #DIV/0! | U35: =SUM(P35/P23) -> #DIV/0! | V35: =SUM(Q35/Q23) -> #DIV/0!
A36: Other | B36: 0 | D36: Other | E36: 0 | G36: Other | H36: 0 | J36: Other | K36: 0 | M36: Other | N36: =B36 -> 0 | O36: =E36 -> 0 | P36: =H36 -> 0 | Q36: =K36 -> 0 | R36: Other | S36: =SUM(N36/N23) -> #DIV/0! | T36: =SUM(O36/O23) -> #DIV/0! | U36: =SUM(P36/P23) -> #DIV/0! | V36: =SUM(Q36/Q23) -> #DIV/0!
A37: Total Long-Term Liabilities | B37: =SUM(B32:B36) -> 0 | D37: Total Long-Term Liabilities | E37: =SUM(E32:E36) -> 0 | G37: Total Long-Term Liabilities | H37: =SUM(H32:H36) -> 0 | J37: Total Long-Term Liabilities | K37: =SUM(K32:K36) -> 0 | M37: Total Long-Term Liabilities | N37: =SUM(B37) -> 0 | O37: =SUM(E37) -> 0 | P37: =SUM(H37) -> 0 | Q37: =SUM(K37) -> 0 | R37: Total Long-Term Liabilities | S37: =SUM(N37/N23) -> #DIV/0! | T37: =SUM(O37/O23) -> #DIV/0! | U37: =SUM(P37/P23) -> #DIV/0! | V37: =SUM(Q37/Q23) -> #DIV/0!
A38: Total Liabilities | C38: =SUM(B30+B37) -> 0 | D38: Total Liabilities | F38: =SUM(E30+E37) -> 0 | G38: Total Liabilities | I38: =SUM(H30+H37) -> 0 | J38: Total Liabilities | L38: =SUM(K30+K37) -> 0 | M38: Total Liabilities | N38: =SUM(C38) -> 0 | O38: =SUM(F38) -> 0 | P38: =SUM(I38) -> 0 | Q38: =SUM(L38) -> 0 | R38: Total Liabilities | S38: =SUM(N38/N23) -> #DIV/0! | T38: =SUM(O38/O23) -> #DIV/0! | U38: =SUM(P38/P23) -> #DIV/0! | V38: =SUM(Q38/Q23) -> #DIV/0!
A40: Equity | D40: Equity | G40: Equity | J40: Equity | M40: Equity | R40: Equity
A41: Retained Income | B41: ='INCOME STATEMENT'!C26 -> 0 | D41: Retained Income | E41: ='INCOME STATEMENT'!F26 -> 0 | G41: Retained Income | H41: ='INCOME STATEMENT'!I26 -> 0 | J41: Retained Income | K41: ='INCOME STATEMENT'!L26 -> 0 | M41: Retained Earnings | N41: =SUM(B41) -> 0 | O41: =SUM(E41) -> 0 | P41: =SUM(H41) -> 0 | Q41: =SUM(K41) -> 0 | R41: Retained Earnings | S41: =SUM(N41/N23) -> #DIV/0! | T41: =SUM(O41/O23) -> #DIV/0! | U41: =SUM(P41/P23) -> #DIV/0! | V41: =SUM(Q41/Q23) -> #DIV/0!
A42: Original Equity (Estimated) | B42: =C43-B41 -> 0 | D42: Original Equity (Estimated) | E42: =F43-E41 -> 0 | G42: Original Equity (Estimated) | H42: =I43-H41 -> 0 | J42: Original Equity (Estimated) | K42: =L43-K41 -> 0 | M42: Original Equity (Estimated) | N42: =SUM(B42) -> 0 | O42: =SUM(E42) -> 0 | P42: =SUM(H42) -> 0 | Q42: =SUM(K42) -> 0 | R42: Original Equity (Estimated) | S42: =SUM(N42/N23) -> #DIV/0! | T42: =SUM(O42/O23) -> #DIV/0! | U42: =SUM(P42/P23) -> #DIV/0! | V42: =SUM(Q42/Q23) -> #DIV/0!
...

Sheet Credit Reports
A1: 2025 Credit Scores
A2: *CreditKarma | B2: Q1 | C2: Q2 | D2: Q3 | E2: Q4
A4: Person 1
A5: TransUnion | B5: 0 | C5: 0 | D5: 0 | E5: 0
A6: Equifax | B6: 0 | C6: 0 | D6: 0 | E6: 0
A7: Person 2
A8: TransUnion | B8: 0 | C8: 0 | D8: 0 | E8: 0
A9: Equifax | B9: 0 | C9: 0 | D9: 0 | E9: 0
